BEGIN:VCALENDAR
VERSION:2.0
PRODID:-//wp-events-plugin.com//7.2.3.1//EN
TZID:America/Chicago
X-WR-TIMEZONE:America/Chicago
BEGIN:VEVENT
UID:866@acappellatexas.org
DTSTART:20230221T190000Z
DTEND:20230221T214500Z
DTSTAMP:20230216T042631Z
URL:https://acappellatexas.org/events/weekly-rehearsal-2023-02-21/
SUMMARY:A Cappella Texas Guest Night Open House!
DESCRIPTION:Open to all\, following AustinHealth community safety guideline
 s. \nEmail acappellatexas@gmail.com for details on our rehearsal\, and saf
 ety protocols!
ATTACH;FMTTYPE=image/jpeg:https://i0.wp.com/acappellatexas.org/wp-content/
 uploads/2019/10/ATXLogo.jpg?fit=486%2C248&ssl=1
CATEGORIES:Outreach,Rehearsal
LOCATION:St. Paul's Lutheran Church School Building\, 3407 Red River Street
 \, Austin\, TX\, 78705\, United States
GEO:30.29324;-97.725311
X-APPLE-STRUCTURED-LOCATION;VALUE=URI;X-ADDRESS=3407 Red River Street\, Aus
 tin\, TX\, 78705\, United States;X-APPLE-RADIUS=100;X-TITLE=St. Paul's Lut
 heran Church School Building:geo:30.29324,-97.725311
END:VEVENT
END:VCALENDAR