BEGIN:VCALENDAR
VERSION:2.0
PRODID:-//wp-events-plugin.com//7.2.3.1//EN
TZID:America/Chicago
X-WR-TIMEZONE:America/Chicago
BEGIN:VEVENT
UID:286@acappellatexas.org
DTSTART:20180214T090000Z
DTEND:20180214T200000Z
DTSTAMP:20180106T041456Z
URL:https://acappellatexas.org/events/singing-valentines/
SUMMARY:Singing Valentines
DESCRIPTION:Quartets from A Cappella Texas will deliver Singing Valentines 
 today from 9:00AM until 8:00PM.
END:VEVENT
END:VCALENDAR