BEGIN:VCALENDAR
VERSION:2.0
PRODID:-//wp-events-plugin.com//7.2.3.1//EN
TZID:America/Chicago
X-WR-TIMEZONE:America/Chicago
BEGIN:VEVENT
UID:876@acappellatexas.org
DTSTART;TZID=America/Chicago:20230214T090000
DTEND;TZID=America/Chicago:20230214T180000
DTSTAMP:20230123T221714Z
URL:https://acappellatexas.org/events/singing-valentines-6/
SUMMARY:Singing Valentine's
DESCRIPTION:&nbsp\;\n\n\nOur quartets will be out and about in the Austin m
 etro\, delivering Love one song at a time all day!\nDon't forget to click 
 on the order form to get yours as soon as possible before the time slots r
 un out!\nHappy Valentine's Day!
CATEGORIES:Performance
END:VEVENT
BEGIN:VTIMEZONE
TZID:America/Chicago
X-LIC-LOCATION:America/Chicago
BEGIN:STANDARD
DTSTART:20221106T010000
TZOFFSETFROM:-0500
TZOFFSETTO:-0600
TZNAME:CST
END:STANDARD
END:VTIMEZONE
END:VCALENDAR