BEGIN:VCALENDAR
VERSION:2.0
PRODID:-//wp-events-plugin.com//7.2.3.1//EN
TZID:America/Chicago
X-WR-TIMEZONE:America/Chicago
BEGIN:VEVENT
UID:370@acappellatexas.org
DTSTART:20190214T070000Z
DTEND:20190214T200000Z
DTSTAMP:20190114T173750Z
URL:https://acappellatexas.org/events/singing-valentines-2/
SUMMARY:SINGING VALENTINE'S
DESCRIPTION:Celebrate Valentine's Day in the most unique of ways\, surprise
  your sweetheart with a Singing Valentine courtesy of A Cappella Texas! 
ATTACH;FMTTYPE=image/jpeg:https://i0.wp.com/acappellatexas.org/wp-content/
 uploads/2019/01/VALENTINES-DAY-2019-Metaslider.jpg?fit=1350%2C560&ssl=1
CATEGORIES:Performance
END:VEVENT
END:VCALENDAR