BEGIN:VCALENDAR
VERSION:2.0
PRODID:-//wp-events-plugin.com//7.2.3.1//EN
TZID:America/Chicago
X-WR-TIMEZONE:America/Chicago
BEGIN:VEVENT
UID:223@acappellatexas.org
DTSTART:20160529T190000Z
DTEND:20160529T210000Z
DTSTAMP:20160412T213516Z
URL:https://acappellatexas.org/events/memorial-day-concert-2016/
SUMMARY:Memorial Day Concert
DESCRIPTION:Free and open to public.
CATEGORIES:Performance
LOCATION:Georgetown-Williamson County Veterans Memorial Plaza\, 2 Texas Dri
 ve\, Georgetown\, Texas\, 78633\, United States
GEO:30.7159593;-97.7182118
X-APPLE-STRUCTURED-LOCATION;VALUE=URI;X-ADDRESS=2 Texas Drive\, Georgetown\
 , Texas\, 78633\, United States;X-APPLE-RADIUS=100;X-TITLE=Georgetown-Will
 iamson County Veterans Memorial Plaza:geo:30.7159593,-97.7182118
END:VEVENT
END:VCALENDAR