BEGIN:VCALENDAR
VERSION:2.0
PRODID:-//wp-events-plugin.com//7.2.3.1//EN
TZID:America/Chicago
X-WR-TIMEZONE:America/Chicago
BEGIN:VEVENT
UID:311@acappellatexas.org
DTSTART:20180612T190000Z
DTEND:20180612T220000Z
DTSTAMP:20180603T121319Z
URL:https://acappellatexas.org/events/june-guest-night/
SUMMARY:JUNE GUEST NIGHT!
DESCRIPTION:Come see what singing with A Cappella Texas is all about! Our d
 oors are open every week to visitors\, but every once in a while we want t
 o make a special invitation to you to come join in and sing\, or just watc
 h as we learn music\, tags and enjoy refreshments with all of our guests!\
 n\nSee you there!
ATTACH;FMTTYPE=image/jpeg:https://i0.wp.com/acappellatexas.org/wp-content/
 uploads/2018/03/ATX-Guest-Night-June-12th.jpg?fit=4800%2C2699&ssl=1
CATEGORIES:Rehearsal
LOCATION:Great Hills Baptist Church\, 10500 Jollyville Rd\, Austin\, TX\, 7
 8759\, United States
GEO:30.3982338;-97.7499813
X-APPLE-STRUCTURED-LOCATION;VALUE=URI;X-ADDRESS=10500 Jollyville Rd\, Austi
 n\, TX\, 78759\, United States;X-APPLE-RADIUS=100;X-TITLE=Great Hills Bapt
 ist Church:geo:30.3982338,-97.7499813
END:VEVENT
END:VCALENDAR