BEGIN:VCALENDAR
VERSION:2.0
PRODID:-//wp-events-plugin.com//7.2.3.1//EN
TZID:America/Chicago
X-WR-TIMEZONE:America/Chicago
BEGIN:VEVENT
UID:309@acappellatexas.org
DTSTART:20180419T190000Z
DTEND:20180419T203000Z
DTSTAMP:20180328T210815Z
URL:https://acappellatexas.org/events/fia-17th-annual-choral-concert/
SUMMARY:FIA 17th Annual Choral Concert
DESCRIPTION:You are invited to the 17th Annual Concert featuring members of
 choirs from Georgetown faith communities. This year’s event features for
  thefirst time\, A Cappella Texas and 11 area churches. Admission is free\
 , and aspecial offering will be taken up to help keep seniors connected to
  theircommunity through FIAG transportation and other support services!\n\
 nFaith in Action Georgetown offers services to help older adults in mainta
 ining and improving their quality of life.  With assistance of volunteers
 \, clients can maximize their ability to meet their own needs and to conti
 nue to live independently. We currently offer transportation\,handyman se
 rvices\, errands\, care calling and visits\, information and referrals\, a
 nd a medical equipment closet.
CATEGORIES:Performance
LOCATION:First Baptist Georgetown\, 1333 W University Ave\, Georgetown\, Te
 xas\, 78628\, United States
GEO:30.63192609999999;-97.70747360000001
X-APPLE-STRUCTURED-LOCATION;VALUE=URI;X-ADDRESS=1333 W University Ave\, Geo
 rgetown\, Texas\, 78628\, United States;X-APPLE-RADIUS=100;X-TITLE=First B
 aptist Georgetown:geo:30.63192609999999,-97.70747360000001
END:VEVENT
END:VCALENDAR