BEGIN:VCALENDAR
VERSION:2.0
PRODID:-//wp-events-plugin.com//7.2.3.1//EN
TZID:America/Chicago
X-WR-TIMEZONE:America/Chicago
BEGIN:VEVENT
UID:428@acappellatexas.org
DTSTART:20190928T160000Z
DTEND:20190928T190000Z
DTSTAMP:20190827T182806Z
URL:https://acappellatexas.org/events/barber-palooza-festival/
SUMMARY:Barber Palooza Festival
DESCRIPTION:A Cappella Texas is joining with The San Antonio Chordsmen alon
 g with many other a cappella choruses and quartets to benefit some great c
 auses!\n\nThe plan? Put on a free show for the public and let you donate m
 oney to benefit Youth programs of the Barbershop Harmony Society\, SW Dist
 rict Youth in Harmony and Young Women in Harmony (Region 10)\, which provi
 de singing and training opportunities to middle school - college-age youth
 .\n\nWe just ask that you donate\, and maybe you'll find something awesome
  in the silent auction too!\n\nMore details coming soon!
CATEGORIES:Performance
LOCATION:Garden Ridge Community Center\, 9500 Municipal Parkway\, Garden Ri
 dge\, TX\, 78266\, United States
GEO:29.6394958;-98.29929800000002
X-APPLE-STRUCTURED-LOCATION;VALUE=URI;X-ADDRESS=9500 Municipal Parkway\, Ga
 rden Ridge\, TX\, 78266\, United States;X-APPLE-RADIUS=100;X-TITLE=Garden 
 Ridge Community Center:geo:29.6394958,-98.29929800000002
END:VEVENT
END:VCALENDAR