BEGIN:VCALENDAR
VERSION:2.0
PRODID:-//wp-events-plugin.com//7.2.3.1//EN
TZID:America/Chicago
X-WR-TIMEZONE:America/Chicago
BEGIN:VEVENT
UID:112@acappellatexas.org
DTSTART:20160813T140000Z
DTEND:20160813T190000Z
DTSTAMP:20160328T051132Z
URL:https://acappellatexas.org/events/atx-2016-show-of-champions/
SUMMARY:ATX 2016 Show of Champions
DESCRIPTION:Crossroads and Gas House Gang on the same show\, plus the ATX C
 horus! You don't want to miss this show.
CATEGORIES:Performance
LOCATION:Brentwood School Performing Arts Center\, 11908 N Lamar Blvd\, Aus
 tin\, TX\, 78753\, United States
GEO:30.392248;-97.686702
X-APPLE-STRUCTURED-LOCATION;VALUE=URI;X-ADDRESS=11908 N Lamar Blvd\, Austin
 \, TX\, 78753\, United States;X-APPLE-RADIUS=100;X-TITLE=Brentwood School 
 Performing Arts Center:geo:30.392248,-97.686702
END:VEVENT
END:VCALENDAR