BEGIN:VCALENDAR
VERSION:2.0
PRODID:-//wp-events-plugin.com//7.2.3.1//EN
TZID:America/Chicago
X-WR-TIMEZONE:America/Chicago
BEGIN:VEVENT
UID:877@acappellatexas.org
DTSTART;TZID=America/Chicago:20230429T140000
DTEND;TZID=America/Chicago:20230429T160000
DTSTAMP:20260316T213733Z
URL:https://acappellatexas.org/events/april-sing-fest/
SUMMARY:A Cappella Texas SpringSing Festival 2023
DESCRIPTION:A Cappella Texas presents Spring Sing!\nFeaturing:\nALL IN Quar
 tet\nA Cappella Unlimited\nTempest Quartet\nABCD Quartet\nA Cappella Texas
 \n\nThis Show starts at 2p and will feature some great a cappella singing!
  FREE admission &amp\; FREE parking.\n\n\nWe hope to make this an annual e
 vent so we'd love to see people from all over Austin join us in the audien
 ce to kick it off this spring! Our sites are set on the future and we look
  forward to the the chance to expand this event next Spring. Join us Satur
 day April 29th for some wonderful music starting at 2pm!\nSee less\n
ATTACH;FMTTYPE=image/jpeg:https://i0.wp.com/acappellatexas.org/wp-content/
 uploads/2023/04/Spring-Sing-Flier-FB-Shared.jpg?fit=1200%2C630&ssl=1
CATEGORIES:Outreach,Performance
LOCATION:St. Paul's Lutheran Church School Building\, 3407 Red River Street
 \, Austin\, TX\, 78705\, United States
GEO:30.29324;-97.725311
X-APPLE-STRUCTURED-LOCATION;VALUE=URI;X-ADDRESS=3407 Red River Street\, Aus
 tin\, TX\, 78705\, United States;X-APPLE-RADIUS=100;X-TITLE=St. Paul's Lut
 heran Church School Building:geo:30.29324,-97.725311
END:VEVENT
BEGIN:VTIMEZONE
TZID:America/Chicago
X-LIC-LOCATION:America/Chicago
BEGIN:DAYLIGHT
DTSTART:20230312T030000
TZOFFSETFROM:-0600
TZOFFSETTO:-0500
TZNAME:CDT
END:DAYLIGHT
END:VTIMEZONE
END:VCALENDAR