BEGIN:VCALENDAR
VERSION:2.0
PRODID:-//wp-events-plugin.com//7.2.3.1//EN
TZID:America/Chicago
X-WR-TIMEZONE:America/Chicago
BEGIN:VEVENT
UID:310@acappellatexas.org
DTSTART:20180424T190000Z
DTEND:20180424T220000Z
DTSTAMP:20180328T211139Z
URL:https://acappellatexas.org/events/april-guest-night/
SUMMARY:APRIL GUEST NIGHT!
DESCRIPTION:Come see what singing with A Cappella Texas is all about! Our d
 oors are open every week to visitors\, but every once in a while we want t
 o make a special invitation to you to come join in and sing\, or just watc
 h as we learn music\, tags and enjoy refreshments with all of our guests!\
 n\nSee you there!
CATEGORIES:Rehearsal
LOCATION:Great Hills Baptist Church\, 10500 Jollyville Rd\, Austin\, TX\, 7
 8759\, United States
GEO:30.3982338;-97.7499813
X-APPLE-STRUCTURED-LOCATION;VALUE=URI;X-ADDRESS=10500 Jollyville Rd\, Austi
 n\, TX\, 78759\, United States;X-APPLE-RADIUS=100;X-TITLE=Great Hills Bapt
 ist Church:geo:30.3982338,-97.7499813
END:VEVENT
END:VCALENDAR