BEGIN:VCALENDAR
VERSION:2.0
PRODID:-//wp-events-plugin.com//7.2.3.1//EN
TZID:America/Chicago
X-WR-TIMEZONE:America/Chicago
BEGIN:VEVENT
UID:227@acappellatexas.org
DTSTART:20170530T190000Z
DTEND:20170530T213000Z
DTSTAMP:20170524T034610Z
URL:https://acappellatexas.org/events/a-cappella-tx-rehearsal-2/
SUMMARY:A Cappella TX - Rehearsal
DESCRIPTION:Singers wanted! We rehearse every Tuesday night\, and if you lo
 ve to sing\, we'd love to have you!
CATEGORIES:Rehearsal
LOCATION:Great Hills Baptist Church\, 10500 Jollyville Rd\, Austin\, TX\, 7
 8759\, United States
GEO:30.3982338;-97.7499813
X-APPLE-STRUCTURED-LOCATION;VALUE=URI;X-ADDRESS=10500 Jollyville Rd\, Austi
 n\, TX\, 78759\, United States;X-APPLE-RADIUS=100;X-TITLE=Great Hills Bapt
 ist Church:geo:30.3982338,-97.7499813
END:VEVENT
END:VCALENDAR