BEGIN:VCALENDAR
VERSION:2.0
PRODID:-//wp-events-plugin.com//7.2.3.1//EN
TZID:America/Chicago
X-WR-TIMEZONE:America/Chicago
BEGIN:VEVENT
UID:342@acappellatexas.org
DTSTART:20181204T190000Z
DTEND:20181204T220000Z
DTSTAMP:20180820T155004Z
URL:https://acappellatexas.org/events/a-cappella-texas-rehearsal-7-2018-12
 -04/
SUMMARY:A Cappella Texas Rehearsal
DESCRIPTION:Come see what singing with A Cappella Texas is all about! Our d
 oors are open every week to guest and potential new members!
CATEGORIES:Rehearsal
LOCATION:Great Hills Baptist Church\, 10500 Jollyville Rd\, Austin\, TX\, 7
 8759\, United States
GEO:30.3982338;-97.7499813
X-APPLE-STRUCTURED-LOCATION;VALUE=URI;X-ADDRESS=10500 Jollyville Rd\, Austi
 n\, TX\, 78759\, United States;X-APPLE-RADIUS=100;X-TITLE=Great Hills Bapt
 ist Church:geo:30.3982338,-97.7499813
END:VEVENT
END:VCALENDAR