BEGIN:VCALENDAR
VERSION:2.0
PRODID:-//wp-events-plugin.com//7.2.3.1//EN
TZID:America/Chicago
X-WR-TIMEZONE:America/Chicago
BEGIN:VEVENT
UID:233@acappellatexas.org
DTSTART:20170627T190000Z
DTEND:20170627T213000Z
DTSTAMP:20170606T193816Z
URL:https://acappellatexas.org/events/a-cappella-texas-rehearsal-4/
SUMMARY:A Cappella Texas - Rehearsal
DESCRIPTION:Singers wanted! We are always looking for new members to join u
 s during our rehearsal time! Feel free to come in check it out\, and don't
  be shy we'd love to get you on the risers with us! Sing tags and help us 
 get ready for our upcoming performances.\n\nCome around to the back of the
  church\, follow the signs to the office and you will see our signage\, we
  start at 7p sharp!\n\n
ATTACH;FMTTYPE=image/jpeg:https://i0.wp.com/acappellatexas.org/wp-content/
 uploads/2017/05/IMG_1676.jpg?fit=640%2C640&ssl=1
CATEGORIES:Rehearsal
LOCATION:Great Hills Baptist Church\, 10500 Jollyville Rd\, Austin\, TX\, 7
 8759\, United States
GEO:30.3982338;-97.7499813
X-APPLE-STRUCTURED-LOCATION;VALUE=URI;X-ADDRESS=10500 Jollyville Rd\, Austi
 n\, TX\, 78759\, United States;X-APPLE-RADIUS=100;X-TITLE=Great Hills Bapt
 ist Church:geo:30.3982338,-97.7499813
END:VEVENT
END:VCALENDAR