BEGIN:VCALENDAR
VERSION:2.0
PRODID:-//wp-events-plugin.com//7.2.3.1//EN
TZID:America/Chicago
X-WR-TIMEZONE:America/Chicago
BEGIN:VEVENT
UID:293@acappellatexas.org
DTSTART:20180220T190000Z
DTEND:20180220T214500Z
DTSTAMP:20180314T191757Z
URL:https://acappellatexas.org/events/a-cappella-texas-rehearsal-4-2018-02
 -20/
SUMMARY:A Cappella Texas Rehearsal
DESCRIPTION:We rehearse every Tuesday night at Great Hills Baptist Church\,
  come to the office around the back of the Church and look for our sign! W
 e'd love to have you as our guest\, and hopefully as a member of our choru
 s!
CATEGORIES:Rehearsal
LOCATION:Great Hills Baptist Church\, 10500 Jollyville Rd\, Austin\, TX\, 7
 8759\, United States
GEO:30.3982338;-97.7499813
X-APPLE-STRUCTURED-LOCATION;VALUE=URI;X-ADDRESS=10500 Jollyville Rd\, Austi
 n\, TX\, 78759\, United States;X-APPLE-RADIUS=100;X-TITLE=Great Hills Bapt
 ist Church:geo:30.3982338,-97.7499813
END:VEVENT
END:VCALENDAR