BEGIN:VCALENDAR
VERSION:2.0
PRODID:-//wp-events-plugin.com//7.2.3.1//EN
TZID:America/Chicago
X-WR-TIMEZONE:America/Chicago
BEGIN:VEVENT
UID:264@acappellatexas.org
DTSTART:20171128T184500Z
DTEND:20171128T214500Z
DTSTAMP:20171022T234237Z
URL:https://acappellatexas.org/events/a-cappella-texas-rehearsal-3-2017-11
 -28/
SUMMARY:A Cappella Texas Rehearsal
DESCRIPTION:Singers welcome\, guests can come any night\, but be prepared t
 o sing...or just take a look and see if you'd like to join us! We'd love t
 o have you! 
ATTACH;FMTTYPE=image/jpeg:https://i0.wp.com/acappellatexas.org/wp-content/
 uploads/2017/05/IMG_1676.jpg?fit=640%2C640&ssl=1
CATEGORIES:Rehearsal
LOCATION:Great Hills Baptist Church\, 10500 Jollyville Rd\, Austin\, TX\, 7
 8759\, United States
GEO:30.3982338;-97.7499813
X-APPLE-STRUCTURED-LOCATION;VALUE=URI;X-ADDRESS=10500 Jollyville Rd\, Austi
 n\, TX\, 78759\, United States;X-APPLE-RADIUS=100;X-TITLE=Great Hills Bapt
 ist Church:geo:30.3982338,-97.7499813
END:VEVENT
END:VCALENDAR