BEGIN:VCALENDAR
VERSION:2.0
PRODID:-//wp-events-plugin.com//7.2.3.1//EN
TZID:America/Chicago
X-WR-TIMEZONE:America/Chicago
BEGIN:VEVENT
UID:237@acappellatexas.org
DTSTART:20170718T190000Z
DTEND:20170718T213000Z
DTSTAMP:20170702T012024Z
URL:https://acappellatexas.org/events/a-cappella-texas-rehearsal-2017-07-1
 8/
SUMMARY:A Cappella Texas - Rehearsal
DESCRIPTION:All are welcome to sing with our chorus\, if you love to sing a
 nd are looking for a great A Cappella experience\, join us on Tuesdays!
ATTACH;FMTTYPE=image/jpeg:https://i0.wp.com/acappellatexas.org/wp-content/
 uploads/2017/05/IMG_1676.jpg?fit=640%2C640&ssl=1
CATEGORIES:Rehearsal
LOCATION:Great Hills Baptist Church\, 10500 Jollyville Rd\, Austin\, TX\, 7
 8759\, United States
GEO:30.3982338;-97.7499813
X-APPLE-STRUCTURED-LOCATION;VALUE=URI;X-ADDRESS=10500 Jollyville Rd\, Austi
 n\, TX\, 78759\, United States;X-APPLE-RADIUS=100;X-TITLE=Great Hills Bapt
 ist Church:geo:30.3982338,-97.7499813
END:VEVENT
END:VCALENDAR