BEGIN:VCALENDAR
VERSION:2.0
PRODID:-//wp-events-plugin.com//7.2.3.1//EN
TZID:America/Chicago
X-WR-TIMEZONE:America/Chicago
BEGIN:VEVENT
UID:560@acappellatexas.org
DTSTART:20201201T184500Z
DTEND:20201201T214500Z
DTSTAMP:20210127T205359Z
URL:https://acappellatexas.org/events/a-cappella-texas-rehearsal-2-2020-12
 -01/
SUMMARY:A Cappella Texas Virtual Rehearsal
DESCRIPTION:Singers welcome\, guests can come any night\, but be prepared t
 o learn...or just take a look and see if you'd like to join us! We'd love 
 to have you! 
ATTACH;FMTTYPE=image/jpeg:https://i0.wp.com/acappellatexas.org/wp-content/
 uploads/2017/09/ATX-rehearsal.jpg?fit=1326%2C750&ssl=1
CATEGORIES:Rehearsal
END:VEVENT
END:VCALENDAR