BEGIN:VCALENDAR
VERSION:2.0
PRODID:-//wp-events-plugin.com//7.2.3.1//EN
TZID:America/Chicago
X-WR-TIMEZONE:America/Chicago
BEGIN:VEVENT
UID:254@acappellatexas.org
DTSTART:20171114T184500Z
DTEND:20171114T214500Z
DTSTAMP:20171023T005256Z
URL:https://acappellatexas.org/events/a-cappella-texas-guest-night/
SUMMARY:A Cappella Texas Guest Night
DESCRIPTION:Come watch\, Come Sing! We welcome singers of all abilities to 
 have fun with us every week! 
CATEGORIES:Rehearsal
LOCATION:Great Hills Baptist Church\, 10500 Jollyville Rd\, Austin\, TX\, 7
 8759\, United States
GEO:30.3982338;-97.7499813
X-APPLE-STRUCTURED-LOCATION;VALUE=URI;X-ADDRESS=10500 Jollyville Rd\, Austi
 n\, TX\, 78759\, United States;X-APPLE-RADIUS=100;X-TITLE=Great Hills Bapt
 ist Church:geo:30.3982338,-97.7499813
END:VEVENT
END:VCALENDAR