BEGIN:VCALENDAR
VERSION:2.0
PRODID:-//wp-events-plugin.com//7.2.3.1//EN
TZID:America/Chicago
X-WR-TIMEZONE:America/Chicago
BEGIN:VEVENT
UID:240@acappellatexas.org
DTSTART:20170916T190000Z
DTEND:20170916T210000Z
DTSTAMP:20170901T071549Z
URL:https://acappellatexas.org/events/a-cappella-texas-experience-reschedu
 led/
SUMMARY:A Cappella Texas Experience (Rescheduled!)
DESCRIPTION:Hurricane Harvey delayed our show\, but can't stop the Harmony!
 \n\nWe will be taking donations for the Austin Disaster Relief Network a
 t the door to help assist the victims of the flooding in Southeast Texas! 
 It isn't required for entry\, but so many people and charities could use t
 he help! We'll update you on what to bring once we get closer!\n\n\n\nPowe
 red by Eventbrite\nenter PROMO CODE: Senior (65+)\, Military and Student f
 or $5 off your GA Ticket!\n
ATTACH;FMTTYPE=image/jpeg:https://i0.wp.com/acappellatexas.org/wp-content/
 uploads/2017/08/Copy-of-Copy-of-Vintage-Rock-Venue-Style-Simple-1970s-1960
 s-Posters-Band-Festival-Music-Club-Bar-E-2.jpg?fit=1920%2C1080&ssl=1
CATEGORIES:Performance
LOCATION:Brentwood School Performing Arts Center\, 11908 N Lamar Blvd\, Aus
 tin\, TX\, 78753\, United States
GEO:30.392248;-97.686702
X-APPLE-STRUCTURED-LOCATION;VALUE=URI;X-ADDRESS=11908 N Lamar Blvd\, Austin
 \, TX\, 78753\, United States;X-APPLE-RADIUS=100;X-TITLE=Brentwood School 
 Performing Arts Center:geo:30.392248,-97.686702
END:VEVENT
END:VCALENDAR