BEGIN:VCALENDAR
VERSION:2.0
PRODID:-//wp-events-plugin.com//7.2.3.1//EN
TZID:America/Chicago
X-WR-TIMEZONE:America/Chicago
BEGIN:VEVENT
UID:267@acappellatexas.org
DTSTART:20171209T113000Z
DTEND:20171209T130000Z
DTSTAMP:20171022T234736Z
URL:https://acappellatexas.org/events/a-cappella-texas-capitol-of-texas-ro
 tunda/
SUMMARY:A Cappella Texas - Capitol of Texas Rotunda
DESCRIPTION:Bringing the season to the great State Capitol of Texas! 
CATEGORIES:Performance
LOCATION:Texas State Capitol Building\, 1100 Congress Ave\, Austin\, TX\, 7
 8702\, United States
GEO:30.2725576;-97.74138879999998
X-APPLE-STRUCTURED-LOCATION;VALUE=URI;X-ADDRESS=1100 Congress Ave\, Austin\
 , TX\, 78702\, United States;X-APPLE-RADIUS=100;X-TITLE=Texas State Capito
 l Building:geo:30.2725576,-97.74138879999998
END:VEVENT
END:VCALENDAR