BEGIN:VCALENDAR
VERSION:2.0
PRODID:-//wp-events-plugin.com//7.2.3.1//EN
TZID:America/Chicago
X-WR-TIMEZONE:America/Chicago
BEGIN:VEVENT
UID:799@acappellatexas.org
DTSTART;TZID=America/Chicago:20220409T150000
DTEND;TZID=America/Chicago:20220409T173000
DTSTAMP:20220221T223616Z
URL:https://acappellatexas.org/events/a-cappella-texas-60th-anniversary-sh
 ow-on-the-road-again/
SUMMARY:A Cappella Texas 60th Anniversary show "On the road again"
DESCRIPTION:"On The Road Again" - Songs about seeing the world\nPlus our Gr
 and 60th Anniversary Celebration\n\nSpecial program features :\n\n 	In add
 ition to the A Cappella Texas chorus experience you know and love...\n 	Qu
 artets galore! A whole collection of "chapter and friends" quartets\n 	The
  60th Anniversary celebration of the founding of our chapter\, featuring p
 revious directors &amp\; alumni members celebrating our 60-year history th
 rough song &amp\; stories\n\nIt will be a wonderful afternoon\, so please 
 join us!\n\n&nbsp\;\n\n[maxbutton id="3" url="https://www.eventbrite.com/e
 /a-cappella-texas-on-the-road-again-tickets-254982147467" window="new" ]\n
 \n&nbsp\;\n\nPlease note:  This show is subject to cancellation and refun
 d if necessary due to local health conditions and official health agency g
 uidance.\n\n&nbsp\;
CATEGORIES:Performance
LOCATION:Brentwood School Performing Arts Center\, 11908 N Lamar Blvd\, Aus
 tin\, TX\, 78753\, United States
GEO:30.392248;-97.686702
X-APPLE-STRUCTURED-LOCATION;VALUE=URI;X-ADDRESS=11908 N Lamar Blvd\, Austin
 \, TX\, 78753\, United States;X-APPLE-RADIUS=100;X-TITLE=Brentwood School 
 Performing Arts Center:geo:30.392248,-97.686702
END:VEVENT
BEGIN:VTIMEZONE
TZID:America/Chicago
X-LIC-LOCATION:America/Chicago
BEGIN:DAYLIGHT
DTSTART:20220313T030000
TZOFFSETFROM:-0600
TZOFFSETTO:-0500
TZNAME:CDT
END:DAYLIGHT
END:VTIMEZONE
END:VCALENDAR